BEGIN:VCALENDAR
VERSION:2.0
PRODID:-//Orange County FL. Branch NAACP - ECPv6.15.20//NONSGML v1.0//EN
CALSCALE:GREGORIAN
METHOD:PUBLISH
X-WR-CALNAME:Orange County FL. Branch NAACP
X-ORIGINAL-URL:https://orangecountynaacp.org
X-WR-CALDESC:Events for Orange County FL. Branch NAACP
REFRESH-INTERVAL;VALUE=DURATION:PT1H
X-Robots-Tag:noindex
X-PUBLISHED-TTL:PT1H
BEGIN:VTIMEZONE
TZID:America/New_York
BEGIN:DAYLIGHT
TZOFFSETFROM:-0500
TZOFFSETTO:-0400
TZNAME:EDT
DTSTART:20240310T070000
END:DAYLIGHT
BEGIN:STANDARD
TZOFFSETFROM:-0400
TZOFFSETTO:-0500
TZNAME:EST
DTSTART:20241103T060000
END:STANDARD
BEGIN:DAYLIGHT
TZOFFSETFROM:-0500
TZOFFSETTO:-0400
TZNAME:EDT
DTSTART:20250309T070000
END:DAYLIGHT
BEGIN:STANDARD
TZOFFSETFROM:-0400
TZOFFSETTO:-0500
TZNAME:EST
DTSTART:20251102T060000
END:STANDARD
BEGIN:DAYLIGHT
TZOFFSETFROM:-0500
TZOFFSETTO:-0400
TZNAME:EDT
DTSTART:20260308T070000
END:DAYLIGHT
BEGIN:STANDARD
TZOFFSETFROM:-0400
TZOFFSETTO:-0500
TZNAME:EST
DTSTART:20261101T060000
END:STANDARD
END:VTIMEZONE
BEGIN:VEVENT
DTSTART;TZID=America/New_York:20250301T060000
DTEND;TZID=America/New_York:20250301T100000
DTSTAMP:20260423T045731
CREATED:20250220T082907Z
LAST-MODIFIED:20250221T014127Z
UID:1822-1740808800-1740823200@orangecountynaacp.org
SUMMARY:Awakening Awareness
DESCRIPTION:
URL:https://orangecountynaacp.org/event/awakening-awareness/
LOCATION:Washington Shores Presbyterian Church\, 3600 Washington Dr.\, Orlando\, FL\, 32805\, United States
CATEGORIES:Human Rights
ATTACH;FMTTYPE=image/png:https://orangecountynaacp.org/wp-content/uploads/2025/02/awakening-awareness-new.png
END:VEVENT
END:VCALENDAR